BEGIN:VCALENDAR
VERSION:2.0
PRODID:icalendar-ruby
CALSCALE:GREGORIAN
METHOD:PUBLISH
BEGIN:VEVENT
DTSTAMP:20260425T144612Z
UID:122-274@oursavior284.tithelysetup5.com
DTSTART:20260503T183000Z
DTEND:20260503T193000Z
CLASS:PUBLIC
CREATED:20260424T112310
DESCRIPTION:
LAST-MODIFIED:20260424T112310
LOCATION:
SUMMARY:Thrivent Financial Brunch & Presentation
URL;VALUE=URI:https://www.oslmesquite.org/events/thrivent-financial-brunch-
 presentation/2026-05-03
ATTACH;FILENAME=thrivent.png;FMTTYPE=image/png:https://dq5pwpg1q8ru0.cloudf
 ront.net/2026/04/24/18/23/09/85154078-0367-4d9e-b8a7-d71beae6943e/thrivent
 .png
END:VEVENT
END:VCALENDAR
