BEGIN:VCALENDAR
VERSION:2.0
PRODID:icalendar-ruby
CALSCALE:GREGORIAN
METHOD:PUBLISH
BEGIN:VEVENT
DTSTAMP:20260425T162701Z
UID:123-275@oursavior284.tithelysetup5.com
DTSTART:20260524T170000Z
DTEND:20260524T181500Z
CLASS:PUBLIC
CREATED:20260424T112456
DESCRIPTION:
LAST-MODIFIED:20260424T112456
LOCATION:
SUMMARY:Pentecost Party for New Members
URL;VALUE=URI:https://www.oslmesquite.org/events/pentecost-party-for-new-me
 mbers/2026-05-24
ATTACH;FILENAME=pentecost.jpg;FMTTYPE=image/jpeg:https://dq5pwpg1q8ru0.clou
 dfront.net/2026/04/24/18/24/56/300696b4-047c-4bad-aa15-5abc8364c2c1/pentec
 ost.jpg
END:VEVENT
END:VCALENDAR
