BEGIN:VCALENDAR
VERSION:2.0
PRODID:icalendar-ruby
CALSCALE:GREGORIAN
METHOD:PUBLISH
BEGIN:VEVENT
DTSTAMP:20260425T135146Z
UID:120-272@oursavior284.tithelysetup5.com
DTSTART:20260502T170000Z
DTEND:20260502T190000Z
CLASS:PUBLIC
CREATED:20260424T093138
DESCRIPTION:
LAST-MODIFIED:20260424T093138
LOCATION:
SUMMARY:Garden Spring Clean-up
URL;VALUE=URI:https://www.oslmesquite.org/events/garden-spring-clean-up/202
 6-05-02
ATTACH;FILENAME=garden-cleanup.jpg;FMTTYPE=image/jpeg:https://dq5pwpg1q8ru0
 .cloudfront.net/2026/04/24/16/31/38/d3a4df25-79ae-4a8b-87a6-eb52a49d49a2/g
 arden-cleanup.jpg
END:VEVENT
END:VCALENDAR
